BEGIN:VCALENDAR
VERSION:2.0
PRODID:-//Balkantina - ECPv6.0.1.1//NONSGML v1.0//EN
CALSCALE:GREGORIAN
METHOD:PUBLISH
X-WR-CALNAME:Balkantina
X-ORIGINAL-URL:https://balkantina.ba
X-WR-CALDESC:Events for Balkantina
REFRESH-INTERVAL;VALUE=DURATION:PT1H
X-Robots-Tag:noindex
X-PUBLISHED-TTL:PT1H
BEGIN:VTIMEZONE
TZID:Europe/Sarajevo
BEGIN:DAYLIGHT
TZOFFSETFROM:+0100
TZOFFSETTO:+0200
TZNAME:CEST
DTSTART:20220327T010000
END:DAYLIGHT
BEGIN:STANDARD
TZOFFSETFROM:+0200
TZOFFSETTO:+0100
TZNAME:CET
DTSTART:20221030T010000
END:STANDARD
END:VTIMEZONE
BEGIN:VEVENT
DTSTART;TZID=Europe/Sarajevo:20221202T180000
DTEND;TZID=Europe/Sarajevo:20221202T210000
DTSTAMP:20260425T184307
CREATED:20221123T104634Z
LAST-MODIFIED:20221123T104635Z
UID:1257-1670004000-1670014800@balkantina.ba
SUMMARY:Cooking class: Homemade fresh pasta & sauce
DESCRIPTION:
URL:https://balkantina.ba/events/cooking-class-homemade-fresh-pasta-sauce/
ATTACH;FMTTYPE=image/jpeg:https://balkantina.ba/wp-content/uploads/2022/11/DSCF7708-scaled.jpg
END:VEVENT
BEGIN:VEVENT
DTSTART;TZID=Europe/Sarajevo:20221214T180000
DTEND;TZID=Europe/Sarajevo:20221214T180000
DTSTAMP:20260425T184307
CREATED:20221205T154648Z
LAST-MODIFIED:20221205T154649Z
UID:1422-1671040800-1671040800@balkantina.ba
SUMMARY:Cooking Class: Moja prva bosanska pita
DESCRIPTION:
URL:https://balkantina.ba/events/cooking-class-moja-prva-bosanska-pita/
ATTACH;FMTTYPE=image/png:https://balkantina.ba/wp-content/uploads/2022/12/PITA-COVER-2.png
END:VEVENT
END:VCALENDAR